BEGIN:VCALENDAR
VERSION:2.0
PRODID:-//Squarespace Inc/Squarespace 6//v6//EN
BEGIN:VEVENT
UID:57bc304cf5e23115c1917f09@squarespace.com
DTSTAMP:20160823T111546Z
DTSTART:20160823T080000Z
DTEND:20160823T150000Z
SUMMARY:All students return
END:VEVENT
END:VCALENDAR
