BEGIN:VCALENDAR
VERSION:2.0
PRODID:-//Squarespace Inc/Squarespace 6//v6//EN
BEGIN:VEVENT
UID:57add0d0d2b8570e096ecf68@squarespace.com
DTSTAMP:20160812T133652Z
DTSTART:20160826T080000Z
DTEND:20160826T150000Z
SUMMARY:1st yr School Opening
END:VEVENT
END:VCALENDAR
