BEGIN:VCALENDAR
VERSION:2.0
PRODID:-//Squarespace Inc/Squarespace 6//v6//EN
BEGIN:VEVENT
UID:57add0196a4963e63a7e8dba@squarespace.com
DTSTAMP:20160812T133608Z
DTSTART:20160825T070000Z
DTEND:20160825T200000Z
SUMMARY:Staff day
END:VEVENT
END:VCALENDAR
