BEGIN:VCALENDAR
VERSION:2.0
PRODID:-//Squarespace Inc/Squarespace 6//v6//EN
BEGIN:VEVENT
UID:57bc3017ff7c50b1a1c168a0@squarespace.com
DTSTAMP:20160823T111512Z
DTSTART:20160829T080000Z
DTEND:20160829T150000Z
SUMMARY:1st & 6th yrs School Opening
END:VEVENT
END:VCALENDAR
