BEGIN:VCALENDAR
VERSION:2.0
PRODID:-//Squarespace Inc/Squarespace 6//v6//EN
BEGIN:VEVENT
UID:57bc2fb3be659453c737c0ec@squarespace.com
DTSTAMP:20160823T111349Z
DTSTART:20160829T080000Z
DTEND:20160829T150000Z
SUMMARY:1st yrs & 6th yrs School Opening
END:VEVENT
END:VCALENDAR
